BEGIN:VCALENDAR
VERSION:2.0
PRODID:-//ChamberMaster//Event Calendar 2.0//EN
METHOD:PUBLISH
X-PUBLISHED-TTL:P3D
REFRESH-INTERVAL:P3D
CALSCALE:GREGORIAN
BEGIN:VEVENT
DTSTART:20260312T150000Z
DTEND:20260312T160000Z
X-MICROSOFT-CDO-ALLDAYEVENT:FALSE
SUMMARY:Massena Chamber Office Grand Opening
DESCRIPTION:The St. Lawrence County Chamber of Commerce is officially setting up shop in Massena with a brand-new satellite office\, and you're invited to the housewarming.\n\n\n\nStop by to see the new space and say hello to Laura Pearson\, the Chamber's Assistant Director.\n\n\n\nLaura will be the "boots on the ground" in Massena every Tuesday and Thursday from 10:00 AM to 3:00 PM\, ready to help our local businesses thrive.\n\n\n\nWhether you're a small business owner looking for growth resources\, curious about membership perks\, or want the latest scoop on local tourism\, this office is your new one-stop resource hub.\n\n\n\nCan't make the party? You can still get the help you need! To schedule a one-on-one appointment with Laura\, give her a ring at 315-386-4000 (ext. 6) or shoot an email to Laura@slcchamber.org.\n\n\n\nLet's show our local businesses some love see you on Main Street!
X-ALT-DESC;FMTTYPE=text/html:The St. Lawrence County Chamber of Commerce is officially setting up shop in Massena with a brand-new satellite office\, and you&rsquo\;re invited to the housewarming.<br />\n<br />\nStop by to see the new space and say hello to Laura Pearson\, the Chamber&rsquo\;s Assistant Director.<br />\n<br />\nLaura will be the &quot\;boots on the ground&quot\; in Massena every Tuesday and Thursday from 10:00 AM to 3:00 PM\, ready to help our local businesses thrive.<br />\n<br />\nWhether you&rsquo\;re a small business owner looking for growth resources\, curious about membership perks\, or want the latest scoop on local tourism\, this office is your new one-stop resource hub.<br />\n<br />\nCan&#39\;t make the party? You can still get the help you need! To schedule a one-on-one appointment with Laura\, give her a ring at 315-386-4000 (ext. 6) or shoot an email to Laura@slcchamber.org.<br />\n<br />\nLet&rsquo\;s show our local businesses some love&mdash\;see you on Main Street!
LOCATION:
UID:e.2288.20744
SEQUENCE:3
DTSTAMP:20260420T052015Z
URL:http://business.visitstlc.com/events/details/massena-chamber-office-grand-opening-20744
END:VEVENT

END:VCALENDAR
