BEGIN:VCALENDAR
VERSION:2.0
PRODID:-//ChamberMaster//Event Calendar 2.0//EN
METHOD:PUBLISH
X-PUBLISHED-TTL:P3D
REFRESH-INTERVAL:P3D
CALSCALE:GREGORIAN
BEGIN:VEVENT
DTSTART;VALUE=DATE:20250208
DTEND;VALUE=DATE:20250209
TRANSP:TRANSPARENT
X-MICROSOFT-CDO-ALLDAYEVENT:TRUE
SUMMARY:Massena Artists Association Exhibit Opening
DESCRIPTION:Massena Artists Association Open Show\n\nMassena Artists Association will hold an Open Show 2/8/25 - 3/7/25.\n\n\n\nThe  show features artwork by Massena High School Art Students and local adults. No charge to attend. Reception with Awards 11:30 am Saturday\, February 8\, 2025.
X-ALT-DESC;FMTTYPE=text/html:<span style="font-size:18px\;"><strong>Massena Artists Association Open Show</strong></span><br />\nMassena Artists Association will hold an Open Show 2/8/25 - 3/7/25.<br />\n<br />\nThe&nbsp\;&#8203\;show features artwork by Massena High School Art Students and local adults. No charge to attend. Reception with Awards 11:30 am Saturday\, February 8\, 2025.
LOCATION:Massena Public Library 41 Glenn Street Massena\, NY 13662
UID:e.2288.19082
SEQUENCE:3
DTSTAMP:20260422T022138Z
URL:http://business.visitstlc.com/events/details/massena-artists-association-exhibit-opening-19082
END:VEVENT

END:VCALENDAR
