BEGIN:VCALENDAR
VERSION:2.0
PRODID:-//ChamberMaster//Event Calendar 2.0//EN
METHOD:PUBLISH
X-PUBLISHED-TTL:P3D
REFRESH-INTERVAL:P3D
CALSCALE:GREGORIAN
BEGIN:VEVENT
DTSTART;VALUE=DATE:20220319
DTEND;VALUE=DATE:20220321
TRANSP:TRANSPARENT
X-MICROSOFT-CDO-ALLDAYEVENT:TRUE
SUMMARY:Maple Weekend-Sweeter Creations Sugar House
DESCRIPTION:Bring your boots\, mittens and cameras and join us at Sweeter Creations Sugar House. It's sugaring season once again! Help gather sap that will be boiled into maple syrup. Watch as maple cream\, maple granulated sugar\, and molded maple sugar are made. Participate in the harvest of New York State's first agricultural crop of the year. Pancake breakfast will happen all four days from 10-4!\n\n\n\nPhoto Credit: Cornell Cooperative Extension of St. Lawrence County & Sweeter Creations Sugar House
X-ALT-DESC;FMTTYPE=text/html:Bring your boots\, mittens and cameras and join us at Sweeter Creations Sugar House. It&#39\;s sugaring season once again! Help gather sap that will be boiled into maple syrup. Watch as maple cream\, maple granulated sugar\, and molded maple sugar are made. Participate in the harvest of New York State&#39\;s first agricultural crop of the year. Pancake breakfast will happen all four days from 10-4!<br />\n<br />\nPhoto Credit:&nbsp\;<span style="color: rgb(34\, 34\, 34)\; font-family: Arial\, Helvetica\, sans-serif\; font-size: small\;">Cornell Cooperative Extension of St. Lawrence County &amp\; Sweeter Creations Sugar House</span>
LOCATION:Sweeter Creations Sugar House 3345 State Highway 345 Waddington\, NY 13694
UID:e.2288.10904
SEQUENCE:3
DTSTAMP:20260421T050836Z
URL:http://business.visitstlc.com/events/details/maple-weekend-sweeter-creations-sugar-house-10904
END:VEVENT

END:VCALENDAR
