BEGIN:VCALENDAR
VERSION:2.0
PRODID:-//ChamberMaster//Event Calendar 2.0//EN
METHOD:PUBLISH
X-PUBLISHED-TTL:P3D
REFRESH-INTERVAL:P3D
CALSCALE:GREGORIAN
BEGIN:VEVENT
DTSTART:20220623T213000Z
DTEND:20220624T010000Z
X-MICROSOFT-CDO-ALLDAYEVENT:FALSE
SUMMARY:Live Music on the River
DESCRIPTION:Listen to live music and enjoy food in the Park after a day of BASSMASTERS! Listen to FullBone from 5:30-6:30\, and KANE from 7:00 to 9:00.\n\n\n\nThe B.A.S.S. Nation is a global network of locally organized clubs whose members participate in and support a range of activities\, including tournaments\, conservation initiatives and youth programs. Three competitors\, who qualify through a rigorous series of local and regional tournaments and then the national championship\, advance to bass fishing's biggest stage\, the Bassmaster Classic. \n\n\n\nDaily Launch at 6:00a.m. and Weigh-In at 2:00p.m.
X-ALT-DESC;FMTTYPE=text/html:Listen to live music and enjoy food in the Park after a day of BASSMASTERS! Listen to FullBone from 5:30-6:30\, and KANE from 7:00 to 9:00.<br />\n<br />\nThe B.A.S.S. Nation is a global network of locally organized clubs whose members participate in and support a range of activities\, including tournaments\, conservation initiatives and youth programs. Three competitors\, who qualify through a rigorous series of local and regional tournaments and then the national championship\, advance to bass fishing&#39\;s biggest stage\, the Bassmaster Classic.&nbsp\;<br />\n<br />\nDaily Launch at 6:00a.m. and Weigh-In at 2:00p.m.
LOCATION:Island View Park Waddington\, NY 13694
UID:e.2288.11062
SEQUENCE:3
DTSTAMP:20260420T222246Z
URL:http://business.visitstlc.com/events/details/live-music-on-the-river-11062
END:VEVENT

END:VCALENDAR
