BEGIN:VCALENDAR
VERSION:2.0
PRODID:-//ChamberMaster//Event Calendar 2.0//EN
METHOD:PUBLISH
X-PUBLISHED-TTL:P3D
REFRESH-INTERVAL:P3D
CALSCALE:GREGORIAN
BEGIN:VEVENT
DTSTART:20220601T160000Z
DTEND:20220601T170000Z
X-MICROSOFT-CDO-ALLDAYEVENT:FALSE
SUMMARY:June -- Lunch and Learn -- PTAC Program
DESCRIPTION:Manna Doyle from the North Country PTAC Program will present a 30 minute webinar on the North Country PTAC Program on Wednesday\, June 1st from 12-1 via Zoom.  The North Country PTAC program helps businesses secure government contracts that will keep them competitive and thriving in our region.  They work with businesses to identify\, compete for\, and win government contracts.  They help businesses market goods and services to the military and other federal\, state\, and local government agencies.  This presentation will review the PTAC Program in general.\n\n\n\n Q&A will follow the presentation\, and supporting materials will be provided.\n\nMissed other webinars? Find them on the "SLC Chamber NY" YouTube channel here.  \n\n \n\nThis webinar is part of the St. Lawrence County Chamber's Monthly Webinar Series. We thank our webinar series sponsors\, St. Lawrence University and Clarkson University for supporting this educational opportunity for members.
X-ALT-DESC;FMTTYPE=text/html:<div style="color: rgb(45\, 45\, 45)\; background-color: rgb(255\, 255\, 255)\;"><strong><span style="color: rgb(51\, 51\, 51)\; font-size: 14px\;"><font face="Arial\, Verdana\, Helvetica\, sans-serif">Manna Doyle from the North Country PTAC Program will</font></span><b style="font-family: Arial\, Helvetica\, sans-serif\; font-size: 13.3333px\; color: rgb(51\, 51\, 51)\;">&nbsp\;present a 30 minute webinar on the North Country PTAC Program on Wednesday\, June 1st from 12-1 via Zoom.&nbsp\; The North Country PTAC program helps businesses secure government contracts that will keep them competitive and thriving in our region.&nbsp\; They work with businesses to identify\, compete for\, and win government contracts.&nbsp\; They help businesses market goods and services to the military and other federal\, state\, and local government agencies.&nbsp\; This presentation will review the PTAC Program in general.</b></strong><br />\n<br />\n<span style="font-family: Arial\, Verdana\, Helvetica\, sans-serif\; font-size: 14px\; color: rgb(51\, 51\, 51)\;">&nbsp\;</span><span style="font-family: Arial\, Verdana\, Helvetica\, sans-serif\; font-size: 14px\; color: rgb(51\, 51\, 51)\; background-color: rgb(255\, 255\, 255)\;">Q&amp\;A will follow the presentation\, and supporting materials will be&nbsp\;provided.</span></div>\n\n<div style="color: rgb(45\, 45\, 45)\; font-family: Arial\, Verdana\, Helvetica\, sans-serif\; font-size: 14px\; background-color: rgb(255\, 255\, 255)\;"><span style="color: rgb(51\, 51\, 51)\;">Missed other webinars? Find them&nbsp\;on the &quot\;SLC Chamber NY&quot\; YouTube channel&nbsp\;</span><a data-saferedirecturl="https://www.google.com/url?q=https://r20.rs6.net/tn.jsp?f%3D001ZOSN18hk9bZCQUu11t5W441zrbjbhQVUxJCv6ja7CeKLFSlJOeljrxBJisrGmPJ_41sVXwbiD556btLkYk4QHNh4BFawnlWdT1cZ8IMjyAe6Dk5_iU_T27VvqkLydb25bSucIX6yWN-bMMvlB0vRvg%3D%3D%26c%3DGJIwxuy0K90uwAaQHxz4R5bubtePfWo_EnfBnvA5jE-ne-SPd-la-w%3D%3D%26ch%3DfrKXm6TYUWSOCtWzoM02nu1SCYsRduE3HGtlbpo4GanUZ9tsUn6O4g%3D%3D&amp\;source=gmail&amp\;ust=1627582442819000&amp\;usg=AFQjCNHuI2VAby3eJ01jvUl_1Owhjet12Q" href="https://r20.rs6.net/tn.jsp?f=001ZOSN18hk9bZCQUu11t5W441zrbjbhQVUxJCv6ja7CeKLFSlJOeljrxBJisrGmPJ_41sVXwbiD556btLkYk4QHNh4BFawnlWdT1cZ8IMjyAe6Dk5_iU_T27VvqkLydb25bSucIX6yWN-bMMvlB0vRvg==&amp\;c=GJIwxuy0K90uwAaQHxz4R5bubtePfWo_EnfBnvA5jE-ne-SPd-la-w==&amp\;ch=frKXm6TYUWSOCtWzoM02nu1SCYsRduE3HGtlbpo4GanUZ9tsUn6O4g==" rel="noopener noreferrer" style="color: rgb(51\, 51\, 51)\; font-size: 16px\;" target="_blank">here</a><span style="color: rgb(51\, 51\, 51)\;">.&nbsp\;&#65279\;</span></div>\n\n<div style="color: rgb(45\, 45\, 45)\; font-family: Arial\, Verdana\, Helvetica\, sans-serif\; font-size: 14px\; background-color: rgb(255\, 255\, 255)\;">&nbsp\;</div>\n\n<div style="color: rgb(45\, 45\, 45)\; font-family: Arial\, Verdana\, Helvetica\, sans-serif\; font-size: 14px\; background-color: rgb(255\, 255\, 255)\;"><span style="color: rgb(51\, 51\, 51)\;">This webinar is part of the St. Lawrence County Chamber&#39\;s Monthly Webinar Series.&nbsp\;We thank our webinar series sponsors\,&nbsp\;St. Lawrence University and Clarkson University for supporting this educational opportunity for members.</span><span style="font-size: 12px\; color: rgb(51\, 51\, 51)\;">&nbsp\;</span></div>\n
LOCATION:This webinar will be presented on the Zoom platform.
UID:e.2288.11030
SEQUENCE:3
DTSTAMP:20260420T204941Z
URL:http://business.visitstlc.com/events/details/june-lunch-and-learn-ptac-program-11030
END:VEVENT

END:VCALENDAR
