BEGIN:VCALENDAR
VERSION:2.0
PRODID:-//ChamberMaster//Event Calendar 2.0//EN
METHOD:PUBLISH
X-PUBLISHED-TTL:P3D
REFRESH-INTERVAL:P3D
CALSCALE:GREGORIAN
BEGIN:VEVENT
DTSTART:20250802T140000Z
DTEND:20250802T190000Z
X-MICROSOFT-CDO-ALLDAYEVENT:FALSE
SUMMARY:Josephine Knot Macrame Hanger Workshop
DESCRIPTION:Josephine Knot Macrame Hanger Workshop\n\nYvonne Corbett instructs on how to make a Macrame Pot Holder or Wall Hanging using a Josephine knot\, square knot\, x square knot\, twists\, wraps\, overhand & braids. Must pre-register.
X-ALT-DESC;FMTTYPE=text/html:<span style="font-size:18px\;"><strong>Josephine Knot Macrame Hanger Workshop</strong></span><br />\nYvonne Corbett instructs on how to make a Macrame Pot Holder or Wall Hanging using a Josephine knot\, square knot\, x square knot\, twists\, wraps\, overhand &amp\; braids. Must pre-register.
LOCATION:The Gallery at Lake Saint Lawrence Arts 14 Main Street | Waddington\, NY
UID:e.2288.20510
SEQUENCE:3
DTSTAMP:20260421T031209Z
URL:http://business.visitstlc.com/events/details/josephine-knot-macrame-hanger-workshop-20510
END:VEVENT

END:VCALENDAR
