BEGIN:VCALENDAR
VERSION:2.0
PRODID:-//ChamberMaster//Event Calendar 2.0//EN
METHOD:PUBLISH
X-PUBLISHED-TTL:P3D
REFRESH-INTERVAL:P3D
CALSCALE:GREGORIAN
BEGIN:VEVENT
DTSTART:20220430T140000Z
DTEND:20220430T190000Z
X-MICROSOFT-CDO-ALLDAYEVENT:FALSE
SUMMARY:Indoor Yard Sale
DESCRIPTION:Indoor Yard Sale with home and garden items!
X-ALT-DESC;FMTTYPE=text/html:Indoor Yard Sale with home and garden items!
LOCATION:Richard G. Lockwood Civic Arena 141 W River Street Ogdensburg\, NY 13669
UID:e.2288.10991
SEQUENCE:3
DTSTAMP:20260420T231457Z
URL:http://business.visitstlc.com/events/details/indoor-yard-sale-10991
END:VEVENT

END:VCALENDAR
