BEGIN:VCALENDAR
VERSION:2.0
PRODID:-//ChamberMaster//Event Calendar 2.0//EN
METHOD:PUBLISH
X-PUBLISHED-TTL:P3D
REFRESH-INTERVAL:P3D
CALSCALE:GREGORIAN
BEGIN:VEVENT
DTSTART:20250215T160000Z
DTEND:20250215T180000Z
X-MICROSOFT-CDO-ALLDAYEVENT:FALSE
SUMMARY:Graffiti Art with Alec Silluzio
DESCRIPTION:Graffiti Art with Alec Silluzio\n\nThe SLC Arts Council will host a graffiti art workshop featuring local artist Alec Silluzio at the Creative Spirit Community Arts Center on Saturday\, Feb. 15. The workshop will teach the basics of graffiti art and all class materials will be provided.
X-ALT-DESC;FMTTYPE=text/html:<span style="font-size:18px\;"><strong>Graffiti Art with Alec Silluzio</strong></span><br />\nThe&nbsp\;<a href="http://www.SLCartscouncil.org" target="_blank">SLC Arts Council</a>&nbsp\;will host a graffiti art workshop featuring local artist&nbsp\;Alec Silluzio&nbsp\;at the Creative Spirit Community Arts Center on Saturday\, Feb. 15. The workshop will teach the basics of graffiti art and all class materials will be provided.&nbsp\;
LOCATION:Creative Spirit Community Arts Center 6-8 Raymond Street Potsdam\, NY 13676
UID:e.2288.19705
SEQUENCE:3
DTSTAMP:20260422T031642Z
URL:http://business.visitstlc.com/events/details/graffiti-art-with-alec-silluzio-19705
END:VEVENT

END:VCALENDAR
