BEGIN:VCALENDAR
VERSION:2.0
PRODID:-//ChamberMaster//Event Calendar 2.0//EN
METHOD:PUBLISH
X-PUBLISHED-TTL:P3D
REFRESH-INTERVAL:P3D
CALSCALE:GREGORIAN
BEGIN:VEVENT
DTSTART:20220410T170000Z
DTEND:20220410T180000Z
X-MICROSOFT-CDO-ALLDAYEVENT:FALSE
SUMMARY:Geology Walk In The Park
DESCRIPTION:Join us for the first installment of our annual Walk In The Park series! Starting Sunday\, April 10th from 1-2pm Tom VandeWater will lead a walk focused on the geology of the Grasse River and Heritage Park. Tom is a local Earth/Environmental Science teacher at Canton Central School District.
X-ALT-DESC;FMTTYPE=text/html:Join us for the first installment of our annual Walk In The Park series! Starting Sunday\, April 10th from 1-2pm Tom VandeWater will lead a walk focused on the geology of the Grasse River and Heritage Park. Tom is a local Earth/Environmental Science teacher at Canton Central School District.
LOCATION:Heritage Park\, Canton
UID:e.2288.10976
SEQUENCE:3
DTSTAMP:20260420T231559Z
URL:http://business.visitstlc.com/events/details/geology-walk-in-the-park-10976
END:VEVENT

END:VCALENDAR
