BEGIN:VCALENDAR
VERSION:2.0
PRODID:-//ChamberMaster//Event Calendar 2.0//EN
METHOD:PUBLISH
X-PUBLISHED-TTL:P3D
REFRESH-INTERVAL:P3D
CALSCALE:GREGORIAN
BEGIN:VEVENT
DTSTART:20210625T103000Z
DTEND:20210630T183000Z
X-MICROSOFT-CDO-ALLDAYEVENT:FALSE
SUMMARY:General Tire Bass Pro Tour Stage Five
DESCRIPTION:General Tire Bass Pro Tour Stage Five at the St. Lawrence River\, Massena\, NY\n \n\nHosted by Fish Massena
X-ALT-DESC;FMTTYPE=text/html:<span style="color: rgb(0\, 79\, 113)\; font-family: &quot\;Open Sans&quot\;\, &quot\;Helvetica Neue&quot\;\, Helvetica\, Roboto\, Arial\, sans-serif\; font-size: 16px\; background-color: rgb(252\, 252\, 252)\;">General Tire Bass Pro Tour Stage Five at the St. Lawrence River\, Massena\, NY</span>\n<div>&nbsp\;</div>\n\n<div><span style="color: rgb(0\, 79\, 113)\; font-family: &quot\;Open Sans&quot\;\, &quot\;Helvetica Neue&quot\;\, Helvetica\, Roboto\, Arial\, sans-serif\; font-size: 16px\; background-color: rgb(252\, 252\, 252)\;">Hosted by <a href="https://www.fishmassenany.com/">Fish Massena</a></span></div>\n
LOCATION:Massena Intake Boat Launch
UID:e.2288.10365
SEQUENCE:3
DTSTAMP:20260422T043856Z
URL:http://business.visitstlc.com/events/details/general-tire-bass-pro-tour-stage-five-06-25-2021-10365
END:VEVENT

END:VCALENDAR
