BEGIN:VCALENDAR
VERSION:2.0
PRODID:-//ChamberMaster//Event Calendar 2.0//EN
METHOD:PUBLISH
X-PUBLISHED-TTL:P3D
REFRESH-INTERVAL:P3D
CALSCALE:GREGORIAN
BEGIN:VEVENT
DTSTART:20220608T213000Z
DTEND:20220609T010000Z
X-MICROSOFT-CDO-ALLDAYEVENT:FALSE
SUMMARY:GardenShare Annual Dinner
DESCRIPTION:Gardenshare will be hosting their 2022 Annual Fundraising Dinner on Wednesday\, June 8\, 2022.\n\n\n\nThe annual dinner is a much anticipated event that showcases local bounty while raising money to support GardenShare. With 1844 House and executive chef Joseph Smart\, we invite you to join us for a seasonal\, locally sourced dinner and a GardenShare program update from Executive Director Carlene Doane and Board President Valerie Ingram.\n\n\n\nProceeds from the dinner will support GardenShare's efforts to make healthy\, sustainable food choices available to everyone in St. Lawrence County.\n\n\n\nReservations are limited and required by Tuesday\, May 31\, 2022 on GardenShare's website -\n\nwww.GardenShare.org.
X-ALT-DESC;FMTTYPE=text/html:Gardenshare will be hosting their 2022 Annual Fundraising Dinner on Wednesday\, June 8\, 2022.<br />\n<br />\nThe annual dinner is a much anticipated event that showcases local bounty while raising money to support GardenShare. With 1844 House and executive chef Joseph Smart\, we invite you to join us for a seasonal\, locally sourced dinner and a GardenShare program update from Executive Director Carlene Doane and Board President Valerie Ingram.<br />\n<br />\nProceeds from the dinner will support GardenShare&rsquo\;s efforts to make healthy\, sustainable food choices available to everyone in St. Lawrence County.<br />\n<br />\nReservations are limited and required by Tuesday\, May 31\, 2022&nbsp\;on GardenShare&rsquo\;s website -<br />\n<a href="http://www.GardenShare.org">www.GardenShare.org</a>.
LOCATION:The 1844 House in Potsdam
UID:e.2288.11013
SEQUENCE:3
DTSTAMP:20260420T205012Z
URL:http://business.visitstlc.com/events/details/gardenshare-annual-dinner-11013
END:VEVENT

END:VCALENDAR
