BEGIN:VCALENDAR
VERSION:2.0
PRODID:-//ChamberMaster//Event Calendar 2.0//EN
METHOD:PUBLISH
X-PUBLISHED-TTL:P3D
REFRESH-INTERVAL:P3D
CALSCALE:GREGORIAN
BEGIN:VEVENT
DTSTART;VALUE=DATE:20250222
DTEND;VALUE=DATE:20250223
TRANSP:TRANSPARENT
X-MICROSOFT-CDO-ALLDAYEVENT:TRUE
SUMMARY:Fun Run
DESCRIPTION:Fun Run\n\nGet ready for an action-packed day at the Brier Hill Fire Department Fun Run on Saturday\, February 22! Open to all vehicles\, this exciting event invites participants to hit the road\, make stops at popular local venues\, and compete for the best hand.\n\n\n\n  Registration: $15 per vehicle\n\n  Stops Include: Langbrook Meadows\, Turner Inn\, Doug's Tavern\, Sid's Place\, Mack's Inn\, Iron Horse\, East Branch\, and JK Roadhouse.\n\n  How It Works: Participants must visit at least four stops\, with the final stop at the fire station. The more stops\, the more cards earned!\n\n  Card Turn-In: Cards must be returned to the fire station by 5 p.m. to qualify for the final draw.\n\n\n\n  Trailer parking is available.\n\n  Pre-register online via Venmo: @BrierHill-FireDepartment\n\n  Stay for the fun! A Cornhole Tournament will follow at the fire station.\n\n\n\nFor more details\, call 315-323-4096. Don't miss this high-energy community event rev up those engines and join the fun!
X-ALT-DESC;FMTTYPE=text/html:<span style="font-size:18px\;"><strong>Fun Run</strong></span><br />\nGet ready for an action-packed day at the Brier Hill Fire Department Fun Run on Saturday\, February 22! Open to all vehicles\, this exciting event invites participants to hit the road\, make stops at popular local venues\, and compete for the best hand.<br />\n<br />\n&#128313\;<strong> Registration:</strong> $15 per vehicle<br />\n<strong>&#128313\; Stops Include</strong>: Langbrook Meadows\, Turner Inn\, Doug&#39\;s Tavern\, Sid&#39\;s Place\, Mack&#39\;s Inn\, Iron Horse\, East Branch\, and JK Roadhouse.<br />\n<strong>&#128313\; How It Works:</strong> Participants must visit at least four stops\, with the final stop at the fire station. The more stops\, the more cards earned!<br />\n<strong>&#128313\; Card Turn-In:</strong> Cards must be returned to the fire station by 5 p.m. to qualify for the final draw.<br />\n<br />\n<strong>&#128666\; Trailer parking is available.</strong><br />\n<strong>&#128176\; Pre-register online via Venmo: </strong>@BrierHill-FireDepartment<br />\n<strong>&#127919\; Stay for the fun! A Cornhole Tournament</strong> will follow at the fire station.<br />\n<br />\nFor more details\, call 315-323-4096. Don&rsquo\;t miss this high-energy community event&mdash\;rev up those engines and join the fun! &#128678\;&#128293\;
LOCATION:
UID:e.2288.19719
SEQUENCE:3
DTSTAMP:20260422T025524Z
URL:http://business.visitstlc.com/events/details/fun-run-19719
END:VEVENT

END:VCALENDAR
