BEGIN:VCALENDAR
VERSION:2.0
PRODID:-//ChamberMaster//Event Calendar 2.0//EN
METHOD:PUBLISH
X-PUBLISHED-TTL:P3D
REFRESH-INTERVAL:P3D
CALSCALE:GREGORIAN
BEGIN:VEVENT
DTSTART:20260429T220000Z
DTEND:20260430T000000Z
X-MICROSOFT-CDO-ALLDAYEVENT:FALSE
SUMMARY:Friends of Bend in the River Community Meeting
DESCRIPTION:Come join us as we discuss our process for the renovation of the Riley Room.
X-ALT-DESC;FMTTYPE=text/html:Come join us as we discuss our process for the renovation of the Riley Room.
LOCATION:90 Lincoln St.\, Canton Pavilion
UID:e.2288.20786
SEQUENCE:3
DTSTAMP:20260423T215454Z
URL:http://business.visitstlc.com/events/details/friends-of-bend-in-the-river-community-meeting-20786
END:VEVENT

END:VCALENDAR
