BEGIN:VCALENDAR
VERSION:2.0
PRODID:-//ChamberMaster//Event Calendar 2.0//EN
METHOD:PUBLISH
X-PUBLISHED-TTL:P3D
REFRESH-INTERVAL:P3D
CALSCALE:GREGORIAN
BEGIN:VEVENT
DTSTART:20201010T130000Z
DTEND:20201017T200000Z
X-MICROSOFT-CDO-ALLDAYEVENT:FALSE
SUMMARY:fineNmaple Makes it maple during Maple Weekend
DESCRIPTION:Pancakes\, French Toast with REAL MAPLE SYRUP\, Hash Browns\, Quiche\, Sausage\, Coffee\, Juice or Water\n\n\n\nMAPLE SYRUP\, CREAM\, CANDY & SUGAR \n\n  Flavored Syrups and Honey\n\n\n\nOpen Air Vendor Market!  Paintball & more!\n\n\n\nFace Masks and Social Distancing Required\n\n\n\nWe would like to thank Adirondack Energy adn Lake Ontario Realty for their sponsorship of this event!!!
X-ALT-DESC;FMTTYPE=text/html:Pancakes\, French Toast&nbsp\;<em>with</em>&nbsp\;REAL MAPLE SYRUP\, Hash Browns\, Quiche\, Sausage\, Coffee\, Juice or Water<br />\n<br />\nMAPLE SYRUP\, CREAM\, CANDY &amp\; SUGAR&nbsp\;<br />\n&nbsp\; Flavored Syrups and Honey<br />\n<br />\nOpen Air Vendor Market!&nbsp\; Paintball &amp\; more!<br />\n<br />\nFace Masks and Social Distancing Required<br />\n<br />\nWe would like to thank Adirondack Energy adn Lake Ontario Realty for their sponsorship of this event!!!
LOCATION:529 & 530 Austin Ridge Rd Norwood
UID:e.2288.9912
SEQUENCE:3
DTSTAMP:20260423T150450Z
URL:http://business.visitstlc.com/events/details/finenmaple-makes-it-maple-during-maple-weekend-9912
END:VEVENT

END:VCALENDAR
