BEGIN:VCALENDAR
VERSION:2.0
PRODID:-//ChamberMaster//Event Calendar 2.0//EN
METHOD:PUBLISH
X-PUBLISHED-TTL:P3D
REFRESH-INTERVAL:P3D
CALSCALE:GREGORIAN
BEGIN:VEVENT
DTSTART:20211106T233000Z
DTEND:20211106T233000Z
X-MICROSOFT-CDO-ALLDAYEVENT:FALSE
SUMMARY:Fall 2021 Concert Announcements Live events are back!
DESCRIPTION:Greetings from CPS!\n\nIt is with great joy that we welcome you back to campus. It has been far too long since we have heard the reverberation of live music echoing throughout the concert hall. Please join us once again to experience the passion and energy of live performance. Our Fall 2021 guest artists will surely deliver both. \n\nFor safety purposes\, we will require proof of vaccination and ensure that everyone is wearing a mask at all times\, as is the current standard for arts venues across the nation. We encourage you to do your part to ensure the safety of yourselves\, our community\, and our guest artists.\n\nWe very much look forward to seeing you at the show!\n\nJason L. Dominie\n\nExecutive Director\n\n \n\n	\n		\n			\n			\n				\n					\n						\n						Third Maresca Visiting Artists\n\n						Rhiannon Giddens\n\n						with Francesco Turrisi\n\n						SAT\, NOV 6 at 7:30 PM\n\n						HOSMER HALL AT SUNY POTSDAM\n						\n					\n				\n			\n			\n		\n	\n\n\n\n	\n		\n			\n			\n				\n					\n						\n						The acclaimed musician Rhiannon Giddens uses her art to excavate the past and reveal bold truths about our present. A MacArthur Genius Grant recipient\, Giddens co-founded the Grammy Award-winning Carolina Chocolate Drops\, and she has been nominated for six additional Grammys for her work as a soloist and collaborator. She was most recently nominated for her collaboration with multi-instrumentalist Francesco Turrisi\, there is no Other (2019).\n						\n					\n				\n			\n			\n		\n	\n\n\n\n\n	\n		\n			 \n		\n	\n\n\n\nCPS TICKETS ON SALE NOW:\n\nCPS Box Office | Performing Arts Center | Mon-Fri: 12:30-4:30 pm\n\nMasks are required to enter all SUNY Potsdam facilities\n\nBy Phone: 315-267-2277\n\nBrick & Mortar Music in Downtown Potsdam\n\nFor more artist information\, to purchase tickets online or\n\ndownload a printable ordering form\, visit cpspotsdam.org\n\n\n\nPROOF OF COVID VACCINATION & MASKS WILL BE REQUIRED AT ALL CPS FALL EVENTS
X-ALT-DESC;FMTTYPE=text/html:<div color:="" font-size:="" style="background-color: rgb(255\, 255\, 255)\; margin-bottom: 10px\; line-height: 1.5\; font-family: " trebuchet=""><span book="" color:="" palatino="" style="font-size: 16px\; font-family: "><strong><em>Greetings from CPS!</em></strong></span></div>\n\n<div color:="" font-size:="" style="background-color: rgb(255\, 255\, 255)\; margin-bottom: 10px\; line-height: 1.5\; font-family: " trebuchet=""><span style="font-size: 14px\;">It is with great joy that we welcome you back to campus. It has been far too long since we have heard the reverberation of live music echoing throughout the concert hall. Please join us once again to experience the passion and energy of live performance. Our Fall 2021 guest artists will surely deliver both.&nbsp\;</span></div>\n\n<div color:="" font-size:="" style="background-color: rgb(255\, 255\, 255)\; margin-bottom: 10px\; line-height: 1.5\; font-family: " trebuchet=""><span style="font-size: 14px\;">For safety purposes\, we will require proof of vaccination and ensure that everyone is wearing a mask at all times\, as is the current standard for arts venues across the nation. We encourage you to do your part to ensure the safety of yourselves\, our community\, and our guest artists.</span></div>\n\n<div color:="" font-size:="" style="background-color: rgb(255\, 255\, 255)\; margin-bottom: 10px\; line-height: 1.5\; font-family: " trebuchet=""><span style="font-size: 14px\;">We very much look forward to seeing you at the show!</span></div>\n\n<div color:="" font-size:="" style="background-color: rgb(255\, 255\, 255)\; margin-bottom: 10px\; line-height: 1.5\; font-family: " trebuchet=""><span style="font-size: 14px\;">Jason L. Dominie</span><br />\n<span style="font-size: 14px\;"><em>Executive Director</em></span><br />\n&nbsp\;\n<table border="0" cellpadding="0" cellspacing="0" id="m_4227184716968420297m_1397602009945293639block_zhsfpavt" style="color: rgb(34\, 34\, 34)\; font-size: 12px\; background-color: rgb(255\, 255\, 255)\; font-family: Arial\, Helvetica\, sans-serif\;" width="100%">\n	<tbody>\n		<tr>\n			<td style="font-family: Roboto\, RobotoDraft\, Helvetica\, Arial\, sans-serif\; margin: 0px\; padding-right: 0px\; padding-bottom: 0px\; padding-left: 0px\; line-height: 1.5\;" valign="top">\n			<table border="0" cellpadding="0" cellspacing="0" style="font-family: Arial\, Helvetica\, sans-serif\; font-size: 12px\;" width="100%">\n				<tbody>\n					<tr>\n						<td style="font-family: Roboto\, RobotoDraft\, Helvetica\, Arial\, sans-serif\; margin: 0px\; padding: 10px\; background-color: transparent\;" valign="top">\n						<h1 style="margin: 0px\; padding: 0px\; border: 0px\; font-style: inherit\; font-variant: inherit\; font-stretch: inherit\; line-height: inherit\; vertical-align: baseline\; font-family: &quot\;Trebuchet MS&quot\;\, Tahoma\, Arial\, sans-serif\; font-size: 26px\; font-weight: normal\; color: rgb(51\, 51\, 51)\; text-align: center\;"><span style="font-family: &quot\;Book Antiqua&quot\;\, Palatino\, &quot\;Palatino Linotype&quot\;\, serif\;"><em>Third Maresca Visiting Artists</em></span></h1>\n\n						<div style="margin-bottom: 10px\; line-height: 1.5\; font-family: &quot\;Trebuchet MS&quot\;\, Tahoma\, Arial\, sans-serif\; font-size: 13px\; color: rgb(51\, 51\, 51)\; text-align: center\;"><span style="font-size: 48px\; color: rgb(8\, 28\, 87)\;"><strong>Rhiannon Giddens</strong></span><br />\n						<span style="font-size: 26px\;"><em>with&nbsp\;<strong>Francesco Turrisi</strong></em></span></div>\n\n						<div style="margin-bottom: 10px\; line-height: 1.5\; font-family: &quot\;Trebuchet MS&quot\;\, Tahoma\, Arial\, sans-serif\; font-size: 13px\; color: rgb(51\, 51\, 51)\; text-align: center\;"><span style="font-size: 32px\;">SAT\, NOV 6&nbsp\;<em>at</em>&nbsp\;7:30 PM</span></div>\n\n						<div style="margin-bottom: 10px\; line-height: 1.5\; font-family: &quot\;Trebuchet MS&quot\;\, Tahoma\, Arial\, sans-serif\; font-size: 13px\; color: rgb(51\, 51\, 51)\; text-align: center\;"><span style="font-size: 18px\;">HOSMER HALL AT SUNY POTSDAM</span></div>\n						</td>\n					</tr>\n				</tbody>\n			</table>\n			</td>\n		</tr>\n	</tbody>\n</table>\n\n<table border="0" cellpadding="0" cellspacing="0" id="m_4227184716968420297m_1397602009945293639block_pusdgswh" style="color: rgb(34\, 34\, 34)\; font-size: 12px\; background-color: rgb(255\, 255\, 255)\; font-family: Arial\, Helvetica\, sans-serif\;" width="100%">\n	<tbody>\n		<tr>\n			<td style="font-family: Roboto\, RobotoDraft\, Helvetica\, Arial\, sans-serif\; margin: 0px\; padding-right: 0px\; padding-bottom: 0px\; padding-left: 0px\; line-height: 1.5\;" valign="top">\n			<table border="0" cellpadding="0" cellspacing="0" style="font-family: Arial\, Helvetica\, sans-serif\; font-size: 12px\;" width="100%">\n				<tbody>\n					<tr>\n						<td style="font-family: Roboto\, RobotoDraft\, Helvetica\, Arial\, sans-serif\; margin: 0px\; padding: 11px\; background-color: transparent\;" valign="top">\n						<div style="margin-bottom: 10px\; line-height: 1.5\; font-family: &quot\;Trebuchet MS&quot\;\, Tahoma\, Arial\, sans-serif\; font-size: 13px\; color: rgb(51\, 51\, 51)\;"><span style="font-size: 14px\;">The acclaimed musician Rhiannon Giddens uses her art to excavate the past and reveal bold truths about our present. A MacArthur&nbsp\;<strong><em>Genius Grant</em></strong>&nbsp\;recipient\, Giddens co-founded the Grammy Award-winning Carolina Chocolate Drops\, and she has been nominated for six additional Grammys for her work as a soloist and collaborator. She was most recently nominated for her collaboration with multi-instrumentalist Francesco Turrisi\,&nbsp\;<em><strong>there is no Other&nbsp\;</strong></em>(2019).</span></div>\n						</td>\n					</tr>\n				</tbody>\n			</table>\n			</td>\n		</tr>\n	</tbody>\n</table>\n</div>\n\n<table border="0" cellpadding="0" cellspacing="0" id="m_4227184716968420297m_1397602009945293639block_trnrwgry" style="color: rgb(34\, 34\, 34)\; font-size: 12px\; font-family: Arial\, Helvetica\, sans-serif\;" width="100%">\n	<tbody>\n		<tr>\n			<td style="font-family: Roboto\, RobotoDraft\, Helvetica\, Arial\, sans-serif\; margin: 0px\; padding-right: 0px\; padding-bottom: 0px\; padding-left: 0px\; line-height: 1.5\;" valign="top">&nbsp\;</td>\n		</tr>\n	</tbody>\n</table>\n\n<div color:="" font-size:="" style="background-color: rgb(255\, 255\, 255)\; margin-bottom: 10px\; line-height: 1.5\; font-family: " trebuchet="">\n<div color:="" font-size:="" line-height:="" style="background-color: rgb(255\, 255\, 255)\; margin-bottom: 10px\; font-family: " text-align:="" trebuchet=""><span style="line-height: 1.5\;"><strong><span style="font-size: 18px\; color: rgb(8\, 28\, 87)\;">CPS TICKETS ON SALE NOW:</span></strong><br />\n<strong><span style="font-size: 16px\;">CPS Box Office&nbsp\;</span></strong><span style="font-size: 16px\;">|<strong>&nbsp\;Performing Arts Center</strong>&nbsp\;|</span><strong><span style="font-size: 16px\;">&nbsp\;Mon-Fri: 12:30-4:30 pm</span></strong><br />\n<em>Masks are required to enter all SUNY Potsdam facilities</em><br />\n<strong><span style="font-size: 16px\;">By Phone: 315-267-2277</span></strong></span></div>\n\n<div color:="" font-size:="" style="background-color: rgb(255\, 255\, 255)\; margin-bottom: 10px\; line-height: 1.5\; font-family: " text-align:="" trebuchet=""><span style="line-height: 1.5\;"><strong>Brick &amp\; Mortar Musi</strong>c in Downtown Potsdam</span></div>\n\n<div color:="" font-size:="" style="background-color: rgb(255\, 255\, 255)\; margin-bottom: 10px\; line-height: 1.5\; font-family: " text-align:="" trebuchet=""><span style="line-height: 1.5\;"><em>For more artist information\, to purchase tickets online or<br />\ndownload a printable ordering form\, visit&nbsp\;<span style="color: rgb(36\, 82\, 215)\;"><strong><a data-saferedirecturl="https://www.google.com/url?q=https://t.e2ma.net/click/azcz8f/ypt8rdb/2o3ekkb&amp\;source=gmail&amp\;ust=1631820740782000&amp\;usg=AFQjCNHDamh9GcZRpwQBYJu_0d6ITzbRKQ" href="https://t.e2ma.net/click/azcz8f/ypt8rdb/2o3ekkb" style="color: rgb(36\, 82\, 215)\; font-weight: inherit\;" target="_blank">cpspotsdam.org</a></strong></span></em></span></div>\n\n<div color:="" font-size:="" style="background-color: rgb(255\, 255\, 255)\; margin-bottom: 10px\; line-height: 1.5\; font-family: " text-align:="" trebuchet=""><br />\n<span style="line-height: 1.5\;"><strong>PROOF OF COVID VACCINATION &amp\; MASKS WILL BE REQUIRED AT ALL CPS FALL EVENTS</strong></span></div>\n</div>\n
LOCATION:Hosmer Hall SUNY Potsdam
UID:e.2288.10748
SEQUENCE:3
DTSTAMP:20260421T113128Z
URL:http://business.visitstlc.com/events/details/fall-2021-concert-announcements-live-events-are-back-10748
END:VEVENT

END:VCALENDAR
