BEGIN:VCALENDAR
VERSION:2.0
PRODID:-//ChamberMaster//Event Calendar 2.0//EN
METHOD:PUBLISH
X-PUBLISHED-TTL:P3D
REFRESH-INTERVAL:P3D
CALSCALE:GREGORIAN
BEGIN:VEVENT
DTSTART:20210722T130000Z
DTEND:20210722T140000Z
X-MICROSOFT-CDO-ALLDAYEVENT:FALSE
SUMMARY:Effective Communication Strategies (Virtual)
DESCRIPTION:To register and for information go to https://www.communityresourcefinder.org/ResourceView/Index?id=2159530&profileDefinitionId=93
X-ALT-DESC;FMTTYPE=text/html:To register and for information go to&nbsp\;<a href="https://www.communityresourcefinder.org/ResourceView/Index?id=2159529&amp\;profileDefinitionId=93">https://www.communityresourcefinder.org/ResourceView/Index?id=2159530&amp\;profileDefinitionId=93</a>
LOCATION:
UID:e.2288.10407
SEQUENCE:3
DTSTAMP:20260422T010049Z
URL:http://business.visitstlc.com/events/details/effective-communication-strategies-virtual-07-22-2021-10407
END:VEVENT

END:VCALENDAR
