BEGIN:VCALENDAR
VERSION:2.0
PRODID:-//ChamberMaster//Event Calendar 2.0//EN
METHOD:PUBLISH
X-PUBLISHED-TTL:P3D
REFRESH-INTERVAL:P3D
CALSCALE:GREGORIAN
BEGIN:VEVENT
DTSTART:20220625T230000Z
DTEND:20220626T010000Z
X-MICROSOFT-CDO-ALLDAYEVENT:FALSE
SUMMARY:Edwards Opera House-She Was Right
DESCRIPTION:The Edwards Opera House presents She Was Right!
X-ALT-DESC;FMTTYPE=text/html:The Edwards Opera House presents She Was Right!
LOCATION:Edwards Opera House 161 Main St Edwards\, NY 13635
UID:e.2288.11106
SEQUENCE:3
DTSTAMP:20260420T205325Z
URL:http://business.visitstlc.com/events/details/edwards-opera-house-she-was-right-11106
END:VEVENT

END:VCALENDAR
