BEGIN:VCALENDAR
VERSION:2.0
PRODID:-//ChamberMaster//Event Calendar 2.0//EN
METHOD:PUBLISH
X-PUBLISHED-TTL:P3D
REFRESH-INTERVAL:P3D
CALSCALE:GREGORIAN
BEGIN:VEVENT
DTSTART:20230328T140000Z
DTEND:20230328T143000Z
X-MICROSOFT-CDO-ALLDAYEVENT:FALSE
SUMMARY:Digital Marketing Webinar Series - Search Engine Management
DESCRIPTION:The digital marketing webinar series is hosted by the St. Lawrence County Chamber of Commerce and Greater Watertown - North Country Chamber of Commerce presented by member\, Watertown Daily Times Digital & Media Team. The webinar series is free. There are 5 sessions. Sign up to receive the Zoom login\, session reminders and recordings! Mark your calendars and plan to 'zoom in' for these 30 minute webinars. The sessions will focus on different marketing strategies in some depth so that you can build your understanding of how to create a strong marketing program for your business or organization.\n\n\n\nSearch Engine Management Webinar:\n\n\n\nIn this episode you will learn about how certain keywords can drive traffic you way and increase your bottom line!\n\n\n\nIn understandable terms this webinar will go over:\n\n	Understanding how keywords work together with SEM\n	Why keywords must be updated regularly\n	The bidding process\, cost per click\, and bottom line cost of SEM\n	How to use SEM keywords to drive internet traffic to your website\n\nRegister HERE: https://docs.google.com/forms/d/e/1FAIpQLScuFJViKb-s7p1bLspaP11FS8XhsrEjuHhKzTnCkWS3qziJ9Q/viewform
X-ALT-DESC;FMTTYPE=text/html:The digital marketing webinar series is hosted by the St. Lawrence County Chamber of Commerce and Greater Watertown - North Country Chamber of Commerce presented by member\, Watertown Daily Times Digital &amp\; Media Team. The webinar series is free. There are 5 sessions. Sign up to receive the Zoom login\, session reminders and recordings! Mark your calendars and plan to &#39\;zoom in&#39\; for these 30 minute webinars. The sessions will focus on different marketing strategies in some depth so that you can build your understanding of how to create a strong marketing program for your business or organization.<br />\n<br />\nSearch Engine Management Webinar:<br />\n<br />\nIn this episode you will learn about how certain keywords can drive traffic you way and increase your bottom line!<br />\n<br />\nIn understandable terms this webinar will go over:\n<ul>\n	<li>Understanding how keywords work together with SEM</li>\n	<li>Why keywords must be updated regularly</li>\n	<li>The bidding process\, cost per click\, and bottom line cost of SEM</li>\n	<li>How to use SEM keywords to drive internet traffic to your website</li>\n</ul>\nRegister HERE:&nbsp\;https://docs.google.com/forms/d/e/1FAIpQLScuFJViKb-s7p1bLspaP11FS8XhsrEjuHhKzTnCkWS3qziJ9Q/viewform
LOCATION:Online! Register once\, Join as often as you can!: https://docs.google.com/forms/d/e/1FAIpQLScuFJViKb-s7p1bLspaP11FS8XhsrEjuHhKzTnCkWS3qziJ9Q/viewform
UID:e.2288.11759
SEQUENCE:3
DTSTAMP:20260421T202814Z
URL:http://business.visitstlc.com/events/details/digital-marketing-webinar-series-search-engine-management-11759
END:VEVENT

END:VCALENDAR
