BEGIN:VCALENDAR
VERSION:2.0
PRODID:-//ChamberMaster//Event Calendar 2.0//EN
METHOD:PUBLISH
X-PUBLISHED-TTL:P3D
REFRESH-INTERVAL:P3D
CALSCALE:GREGORIAN
BEGIN:VEVENT
DTSTART;VALUE=DATE:20220603
DTEND;VALUE=DATE:20220606
TRANSP:TRANSPARENT
X-MICROSOFT-CDO-ALLDAYEVENT:TRUE
SUMMARY:Dairy Festival
DESCRIPTION:Festival days will kick off Friday with the Big Wheel race for ages 4\,5 and 6 registration at 5:30 races start at 6\, you can also pre preregister. Block dance following races. There will be food and craft vendors as well both days. Saturday vendors will open at 10am\, parade at 1pm.
X-ALT-DESC;FMTTYPE=text/html:Festival days will kick off Friday with the Big Wheel race for ages 4\,5 and 6 registration at 5:30 races start at 6\, you can also pre preregister. Block dance following races. There will be food and craft vendors as well both days. Saturday vendors will open at 10am\, parade at 1pm.
LOCATION:Canton NY
UID:e.2288.10985
SEQUENCE:3
DTSTAMP:20260420T222318Z
URL:http://business.visitstlc.com/events/details/dairy-festival-10985
END:VEVENT

END:VCALENDAR
