BEGIN:VCALENDAR
VERSION:2.0
PRODID:-//ChamberMaster//Event Calendar 2.0//EN
METHOD:PUBLISH
X-PUBLISHED-TTL:P3D
REFRESH-INTERVAL:P3D
CALSCALE:GREGORIAN
BEGIN:VEVENT
DTSTART:20230310T160000Z
DTEND:20230310T183000Z
X-MICROSOFT-CDO-ALLDAYEVENT:FALSE
SUMMARY:CPH Guild's Soup Sale
DESCRIPTION:CPH Guild's Heart Warming Soups Sale. For pick-up only. Soup choice is chicken rice\, broccoli cheddar and vegetable\, To pre-order or for more information go to www.cphguild.org.
X-ALT-DESC;FMTTYPE=text/html:CPH Guild&#39\;s Heart Warming Soups Sale. For pick-up only. Soup choice is chicken rice\, broccoli cheddar and vegetable\, To pre-order or for more information go to www.cphguild.org.
LOCATION:Canton Methodist Church at 41 Court St. Canton.
UID:e.2288.11485
SEQUENCE:3
DTSTAMP:20260421T202727Z
URL:http://business.visitstlc.com/events/details/cph-guild-s-soup-sale-11485
END:VEVENT

END:VCALENDAR
