BEGIN:VCALENDAR
VERSION:2.0
PRODID:-//ChamberMaster//Event Calendar 2.0//EN
METHOD:PUBLISH
X-PUBLISHED-TTL:P3D
REFRESH-INTERVAL:P3D
CALSCALE:GREGORIAN
BEGIN:VEVENT
DTSTART:20200515T140000Z
DTEND:20200515T160000Z
X-MICROSOFT-CDO-ALLDAYEVENT:FALSE
SUMMARY:Cornell Webinar- Messaging Customers: Email\, Text & Message Bots
DESCRIPTION:Cornell Webinar- Messaging Customers: Email\, Text & Message Bots\n\n \n\nWHEN: Friday\, May 15\, 2020\,\n\nTIME: 10:00 AM - 12:00 PM\n\n \n\nYou will learn all you need to know about setting up the messaging systems that works for your business to communicate with your customers effectively and legally.The workshop will also show you how to increase your subscribers on these different platforms\, including email\, text and Facebook.\n\nLearn another tool to enhance your business strategy toolbox - don't miss out\n\n \n\nregister here
X-ALT-DESC;FMTTYPE=text/html:<div style="color: rgb(45\, 45\, 45)\; font-family: Arial\, Verdana\, Helvetica\, sans-serif\; font-size: 14px\; white-space: pre-wrap\; background-color: rgb(255\, 255\, 255)\;"><span style="color:#000000\;"><span style="font-size:18px\;"><span style="font-weight: bold\;">Cornell Webinar- Messaging Customers: Email\, Text &amp\; Message Bots</span></span></span></div>\n\n<div style="color: rgb(45\, 45\, 45)\; font-family: Arial\, Verdana\, Helvetica\, sans-serif\; font-size: 14px\; white-space: pre-wrap\; background-color: rgb(255\, 255\, 255)\;">&nbsp\;</div>\n\n<div style="color: rgb(45\, 45\, 45)\; font-family: Arial\, Verdana\, Helvetica\, sans-serif\; font-size: 14px\; white-space: pre-wrap\; background-color: rgb(255\, 255\, 255)\;"><span style="color: rgb(51\, 51\, 51)\; font-weight: bold\;">WHEN: Friday\, May 15\, 2020\,</span></div>\n\n<div style="color: rgb(45\, 45\, 45)\; font-family: Arial\, Verdana\, Helvetica\, sans-serif\; font-size: 14px\; white-space: pre-wrap\; background-color: rgb(255\, 255\, 255)\;"><span style="color: rgb(51\, 51\, 51)\; font-weight: bold\;">TIME: 10:00 AM - 12:00 PM</span></div>\n\n<div style="color: rgb(45\, 45\, 45)\; font-family: Arial\, Verdana\, Helvetica\, sans-serif\; font-size: 14px\; white-space: pre-wrap\; background-color: rgb(255\, 255\, 255)\;"><span style="color: rgb(51\, 51\, 51)\; font-weight: bold\;">&#65279\;</span></div>\n\n<div style="color: rgb(45\, 45\, 45)\; font-family: Arial\, Verdana\, Helvetica\, sans-serif\; font-size: 14px\; white-space: pre-wrap\; background-color: rgb(255\, 255\, 255)\;"><span style="color: rgb(48\, 48\, 48)\;">You will learn all you need to know about setting up the messaging systems that works for your business to communicate with your customers effectively and legally.The workshop will also show you how to increase your subscribers on these different platforms\, including email\, text and Facebook.</span></div>\n\n<div style="color: rgb(45\, 45\, 45)\; font-family: Arial\, Verdana\, Helvetica\, sans-serif\; font-size: 14px\; white-space: pre-wrap\; background-color: rgb(255\, 255\, 255)\;"><span style="color: rgb(48\, 48\, 48)\;">Learn another tool to enhance your business strategy toolbox - don&#39\;t miss out</span></div>\n\n<div style="color: rgb(45\, 45\, 45)\; font-family: Arial\, Verdana\, Helvetica\, sans-serif\; font-size: 14px\; white-space: pre-wrap\; background-color: rgb(255\, 255\, 255)\;">&nbsp\;</div>\n\n<div style="color: rgb(45\, 45\, 45)\; font-family: Arial\, Verdana\, Helvetica\, sans-serif\; font-size: 14px\; white-space: pre-wrap\; background-color: rgb(255\, 255\, 255)\;"><a data-link-type="web" href="http://stlawrence.cce.cornell.edu/events/2020/05/15/webinar-messaging-customers-email-text-message-bots" rel="noopener noreferrer" style="color: rgb(41\, 75\, 147)\; font-weight: bold\;" target="_blank">register here</a></div>\n
LOCATION:Webinar
UID:e.2288.9558
SEQUENCE:3
DTSTAMP:20260424T161407Z
URL:http://business.visitstlc.com/events/details/cornell-webinar-messaging-customers-email-text-message-bots-9558
END:VEVENT

END:VCALENDAR
