BEGIN:VCALENDAR
VERSION:2.0
PRODID:-//ChamberMaster//Event Calendar 2.0//EN
METHOD:PUBLISH
X-PUBLISHED-TTL:P3D
REFRESH-INTERVAL:P3D
CALSCALE:GREGORIAN
BEGIN:VEVENT
DTSTART:20250809T223000Z
DTEND:20250810T000000Z
X-MICROSOFT-CDO-ALLDAYEVENT:FALSE
SUMMARY:Community Paddle - Hopping Tunes: The Music of Toads and Frogs
DESCRIPTION:Community Paddle - Hopping Tunes\n\nThe Music of Toads and Frogs\n\nJoin Nature Up North for their final community paddle of the summer!\n\n\n\nIn this paddle\, learn to identify some common frog and toad calls\, or croaks\, as we paddle along the Little River. While we go\, we'll try to spot these critters along the shoreline. Some common calls we'll be listening for are spring peepers\, bullfrogs. and American Toads. Our paddles are free and come with equipment provided. All you need are clothes you don't mind getting wet! We launch from the Little River Boat Launch on outer Park St. in Canton at 6:30 with the goal of returning by 8pm.\n\n\n\nTo sign up\, please fill out the form linked here.
X-ALT-DESC;FMTTYPE=text/html:<span style="font-size:18px\;"><strong>Community Paddle - Hopping Tunes</strong><br />\nThe Music of Toads and Frogs</span><br />\nJoin Nature Up North for their final community paddle of the summer!<br />\n<br />\nIn this paddle\, learn to identify some common frog and toad calls\, or croaks\, as we paddle along the Little River. While we go\, we&#39\;ll try to spot these critters along the shoreline. Some common calls we&#39\;ll be listening for are spring peepers\, bullfrogs. and American Toads. Our paddles are free and come with equipment provided. All you need are clothes you don&#39\;t mind getting wet! We launch from the Little River Boat Launch on outer Park St. in Canton at 6:30 with the goal of returning by 8pm.<br />\n<br />\nTo sign up\, please <a href="https://www.natureupnorth.org/form/paddle-registration-8-9-25" target="_blank">fill out the form linked here</a>.
LOCATION:Park St. Boat Launch | Canton\, NY
UID:e.2288.20502
SEQUENCE:3
DTSTAMP:20260421T002617Z
URL:http://business.visitstlc.com/events/details/community-paddle-hopping-tunes-the-music-of-toads-and-frogs-20502
END:VEVENT

END:VCALENDAR
