BEGIN:VCALENDAR
VERSION:2.0
PRODID:-//ChamberMaster//Event Calendar 2.0//EN
METHOD:PUBLISH
X-PUBLISHED-TTL:P3D
REFRESH-INTERVAL:P3D
CALSCALE:GREGORIAN
BEGIN:VEVENT
DTSTART:20250208T110000Z
DTEND:20250208T210000Z
X-MICROSOFT-CDO-ALLDAYEVENT:FALSE
SUMMARY:Come Hook Some Cold Hard Cash Ice Fishing Derby
DESCRIPTION:Ice Fishing Derby on the St. Lawrence River\n\nHosted by the Sons of American Legion\, Waddington Post 420\n\nSons of the American Legion Waddington Post 420 will be hosting its 23rd Annual Come Hook Some Cold Hard Cash Ice Fishing Derby on Saturday February 8\, 2025 from sunrise until 4pm. Tournament boundaries are along the St. Lawrence River are within Waddington\, NY from Iroquois Dam to the Coles Creek Marina.\n\n\n\nCash awards to paid registrants with the heaviest Northerns will be announced at Tournament Award Ceremony\, taking place at 5:00PM at Waddington's American Legion.\n\n\n\nRegistration Details\n\nSign up at:\n\n	American Legion\, Post 420 @23 Fenton Street\, Waddington (315.388.4003)\n	Sugar Shack Bait & Tackle @11184 NY-37\, Lisbon (919.698.8231)\n	Pig & Moo BBQ @14169 NY-37\, Massena (315.514.1245)\n	Strike Fear Bait @ 268 E Orvis Street\, Massena (315.323.6517)\n	Northern Harness Bait & Tackle @ 167 Center Street\, Massena (315.769.6833)\n	or at Weigh-in station at Waddington's American Legion on day of the derby until 9:00am\n\nDiscover more fishing events in St. Lawrence County and download a digital STLC Anglers Guide by visiting VisitSLTC.com/fish.
X-ALT-DESC;FMTTYPE=text/html:<span style="font-size:18px\;"><strong>Ice Fishing Derby on the St. Lawrence River</strong><br />\nHosted by the Sons of American Legion\, Waddington Post 420</span><br />\nSons of the American Legion Waddington Post 420 will be hosting its <strong>23rd Annual Come Hook Some Cold Hard Cash Ice Fishing Derby</strong>&nbsp\;on Saturday February 8\, 2025 from sunrise until 4pm. Tournament boundaries are along the St. Lawrence River are within Waddington\, NY from Iroquois Dam to the Coles Creek Marina.<br />\n<br />\nCash awards to paid registrants with the heaviest Northerns will be announced at Tournament Award Ceremony\, taking place at 5:00PM at Waddington&#39\;s American Legion.<br />\n<br />\n<span style="font-size:18px\;">Registration Details</span><br />\n<strong><em>Sign up at:</em></strong>\n<ul>\n	<li><strong>American Legion\, Post 420&nbsp\;</strong>@23 Fenton Street\, Waddington (315.388.4003)</li>\n	<li><strong>Sugar Shack Bait &amp\; Tackle</strong>&nbsp\;@11184 NY-37\, Lisbon (919.698.8231)</li>\n	<li><strong>Pig &amp\; Moo BBQ</strong> @14169 NY-37\, Massena (315.514.1245)</li>\n	<li><strong>Strike Fear Bait</strong> @ 268 E Orvis Street\, Massena (315.323.6517)</li>\n	<li><strong>Northern Harness Bait &amp\; Tackle </strong>@ 167 Center Street\, Massena (315.769.6833)</li>\n	<li><em>or at Weigh-in station at Waddington&#39\;s American Legion on day of the derby until 9:00am</em></li>\n</ul>\n<em>Discover more fishing events in St. Lawrence County and download a digital STLC Anglers Guide by visiting&nbsp\;<a href="http://www.VisitSLTC.com/fish" target="_blank">VisitSLTC.com/fish</a>.</em>
LOCATION:St. Lawrence River Waddington\, NY
UID:e.2288.19019
SEQUENCE:3
DTSTAMP:20260422T020442Z
URL:http://business.visitstlc.com/events/details/come-hook-some-cold-hard-cash-ice-fishing-derby-19019
END:VEVENT

END:VCALENDAR
