BEGIN:VCALENDAR
VERSION:2.0
PRODID:-//ChamberMaster//Event Calendar 2.0//EN
METHOD:PUBLISH
X-PUBLISHED-TTL:P3D
REFRESH-INTERVAL:P3D
CALSCALE:GREGORIAN
BEGIN:VEVENT
DTSTART;VALUE=DATE:20240209
DTEND;VALUE=DATE:20240212
TRANSP:TRANSPARENT
X-MICROSOFT-CDO-ALLDAYEVENT:TRUE
SUMMARY:Colton Winterfest
DESCRIPTION:COLTON WINTERFEST\n\nThe Annual Colton Winterfest will be held February 9-11\, 2024\, with a wide variety of events. Weekend events feature cardboard sled races\, a frying pan toss\, corn hole\, archery\, craft and vendor sale\, a white elephant sale\, Trivia\, KidsFest and Shrek the Musical are among the events.\n\n\n\nA ski challenge with distance markers will be offered at Higley Flow State Park both Saturday and Sunday. Also\, the sledding hill at the Fish and Game Club will be open for the weekend.\n\n\n\n2024 COLTON WINTERFEST SCHEDULE\n\nCPSC = Colton-Pierrepont Central School\n\n\n\nThroughout Winterfest Weekend:\n\nSki Challenge with distance markers Sponsored by Friends of Higley Flow State Park\n\nOpen Sledding @ The Hill Fish and Game Club\n\n\n\nFriday\, February 9:\n\n9:00am - 12:00pm: Quilt Show & Fiberistas @ Colton Hepburn Library\n\n2:45pm - 5:00pm: Grab & Go Spaghetti Dinner @ CPCS Cafeteria\n\n5:00pm - 7:00pm: Dine In Spaghetti Dinner @ CPCS Cafeteria\n\n5:30pm: Boys JV Basketball vs. Tupper Lake @ CPCS Gymnasium\n\n7:00pm: Boys Varsity Basketball vs. Tupper Lake @ CPCS Gymnasium\n\n9:00pm - 12:00am: Live Music @ Robideau?s Mahogany Ridge\n\n\n\nSaturday\, February 10:\n\n9:00am - 3:00pm: Quilt Show & Fiberistas @ Colton Hepburn Library\n\n9:00am - 4:00pm: White Elephant Sale\, Soup & Sandwhiches @ Colton Community Church\n\n9:00am - 6:00pm: Free Clothing Giveaway @ CPCS\n\n10:00am - 2:00pm: Craft & Vendor Show @ Colton-Pierrepont Amvets 262\, Sponsored by Lisa Fisher\n\n11:00am - 2:00pm: Chili Dinner and Hot Dogs @ CPCS Cafeteria sponsored by The Well Comm. Church\n\n11:00am - 4:30pm: Wood Carvers @ Robideau?s Mahogany Ridge\n\n12:00pm: Introduction to Archery @ Fish & Game Club\n\n1:00pm: Cardboard Sled Races with Prizes @ Fish & Game Club\n\n1:00pm: Shrek the Musical @ CPCS Auditorium\n\n3:00pm: Trivia @ Raquette River Pub\n\n7:00pm: Shrek the Musical @ CPCS Auditorium\n\n8:00pm: Live Music with a Hawaiian Theme @ Raquette River Pub\n\n\n\nSunday\, February 11:\n\n9:00am - 2:00pm: Free Clothing Giveaway @ CPCS\n\n10:00am: Frying Pan Toss & Cornhole Tournament @ Colton-Pierrepont Amvets 262\n\n11:00am - 2:00pm: KidsFest featuring: Pancake Contest\, Buddy Sled Race\, S'mores\, Snow Painting\, Face Painting\, Sponsored by Red Pine Cone\n\n11:00am - 2:00pm: White Elephant Sale @ Colton Community Church\n\n1:00pm - 3:00pm: KidsFest Craft Day featuring Fish Crafts @ S. Colton Comm. Center\, Sponsored by South of the Rock Bait\, Beer and Tackle Shop\n\n6:30pm: Superbowl Sunday\, Watch the Game w/Activities @ Raquette River Pub
X-ALT-DESC;FMTTYPE=text/html:<span style="font-size:20px\;"><strong>COLTON WINTERFEST</strong></span><br />\nThe Annual Colton Winterfest will be held February 9-11\, 2024\, with a wide variety of events. Weekend events feature cardboard sled races\, a frying pan toss\, corn hole\, archery\, craft and vendor sale\, a white elephant sale\, Trivia\, KidsFest and Shrek the Musical are among the events.<br />\n<br />\nA ski challenge with distance markers will be offered at Higley Flow State Park both Saturday and Sunday. Also\, the sledding hill at the Fish and Game Club will be open for the weekend.<br />\n<br />\n<strong><span style="font-size:18px\;">2024 COLTON WINTERFEST SCHEDULE</span></strong><br />\n<em>CPSC = Colton-Pierrepont Central School</em><br />\n<br />\n<strong>Throughout Winterfest Weekend:</strong><br />\nSki Challenge with distance markers Sponsored by Friends of Higley Flow State Park<br />\nOpen Sledding @ The Hill Fish and Game Club<br />\n<br />\n<strong>Friday\, February 9:</strong><br />\n9:00am - 12:00pm: Quilt Show &amp\; Fiberistas @ Colton Hepburn Library<br />\n2:45pm - 5:00pm: Grab &amp\; Go Spaghetti Dinner @ CPCS Cafeteria<br />\n5:00pm - 7:00pm: Dine In Spaghetti Dinner @ CPCS Cafeteria<br />\n5:30pm: Boys JV Basketball vs. Tupper Lake @ CPCS Gymnasium<br />\n7:00pm: Boys Varsity Basketball vs. Tupper Lake @ CPCS Gymnasium<br />\n9:00pm - 12:00am: Live Music @ Robideau?s Mahogany Ridge<br />\n<br />\n<strong>Saturday\, February 10:</strong><br />\n9:00am - 3:00pm: Quilt Show &amp\; Fiberistas @ Colton Hepburn Library<br />\n9:00am - 4:00pm: White Elephant Sale\, Soup &amp\; Sandwhiches @ Colton Community Church<br />\n9:00am - 6:00pm:&nbsp\;Free Clothing Giveaway @ CPCS<br />\n10:00am - 2:00pm: Craft &amp\; Vendor Show @ Colton-Pierrepont Amvets 262\, Sponsored by Lisa Fisher<br />\n11:00am - 2:00pm: Chili Dinner and Hot Dogs&nbsp\;@ CPCS Cafeteria sponsored by The Well Comm. Church<br />\n11:00am - 4:30pm: Wood Carvers @&nbsp\;Robideau?s Mahogany Ridge<br />\n12:00pm:&nbsp\;Introduction to Archery @ Fish &amp\; Game Club<br />\n1:00pm:&nbsp\;Cardboard Sled Races with Prizes&nbsp\;@ Fish &amp\; Game Club<br />\n1:00pm: Shrek the Musical @ CPCS Auditorium<br />\n3:00pm: Trivia @&nbsp\;Raquette River Pub<br />\n7:00pm:&nbsp\;Shrek the Musical @ CPCS Auditorium<br />\n8:00pm:&nbsp\;Live Music with a Hawaiian Theme @&nbsp\;Raquette River Pub<br />\n<br />\n<strong>Sunday\, February 11:</strong><br />\n9:00am - 2:00pm:&nbsp\;Free Clothing Giveaway @ CPCS<br />\n10:00am: Frying Pan Toss &amp\; Cornhole Tournament @&nbsp\;Colton-Pierrepont Amvets 262<br />\n11:00am - 2:00pm: <u>KidsFest</u> featuring: Pancake Contest\, Buddy Sled Race\, S&#39\;mores\, Snow Painting\, Face Painting\, Sponsored by Red Pine Cone<br />\n11:00am - 2:00pm: White Elephant Sale @ Colton Community Church<br />\n1:00pm - 3:00pm: KidsFest Craft Day featuring Fish Crafts @ S. Colton Comm. Center\, Sponsored by South of the Rock Bait\, Beer and Tackle Shop<br />\n6:30pm: Superbowl Sunday\, Watch the Game w/Activities @&nbsp\;Raquette River Pub
LOCATION:Colton\, NY
UID:e.2288.16696
SEQUENCE:3
DTSTAMP:20260422T084523Z
URL:http://business.visitstlc.com/events/details/colton-winterfest-16696
END:VEVENT

END:VCALENDAR
