BEGIN:VCALENDAR
VERSION:2.0
PRODID:-//ChamberMaster//Event Calendar 2.0//EN
METHOD:PUBLISH
X-PUBLISHED-TTL:P3D
REFRESH-INTERVAL:P3D
CALSCALE:GREGORIAN
BEGIN:VEVENT
DTSTART:20211103T140000Z
DTEND:20211103T150000Z
X-MICROSOFT-CDO-ALLDAYEVENT:FALSE
SUMMARY:Boost Your Holiday Sales webinar
DESCRIPTION:Boost Your Holiday Sales\n\n \n\nSmall\, local businesses have an advantage in many ways\, but this year is an opportunity to be even more valuable due to shipping delays and inventory shortages. Your customers can shop local and know they are getting their gifts on time and supporting their community.\n\n \n\nJoin the webinar to learn some quick low to no-cost tactics to promote your business and increase sales this holiday season. Marketing prompts\, product promotions\, and strategies that will help boost holiday sales and pay off year round will be discussed as Brooke Rouse\, business owner and St. Lawrence County Chamber Director of Tourism shares some lessons to get you going with immediate ideas. \n\n \n\nThis webinar is ideal for those selling products and services (including restaurants)\, but can translate to many other businesses!
X-ALT-DESC;FMTTYPE=text/html:<div style="color: rgb(34\, 34\, 34)\; font-family: Arial\, Helvetica\, sans-serif\; font-size: small\;">Boost Your Holiday Sales</div>\n\n<div style="color: rgb(34\, 34\, 34)\; font-family: Arial\, Helvetica\, sans-serif\; font-size: small\;">&nbsp\;</div>\n\n<div style="color: rgb(34\, 34\, 34)\; font-family: Arial\, Helvetica\, sans-serif\; font-size: small\;">Small\, local businesses have an advantage in many ways\, but this year is an opportunity to be even more valuable due to shipping delays and inventory shortages. Your customers can shop local and know they are getting their gifts on time and supporting&nbsp\;their community.</div>\n\n<div style="color: rgb(34\, 34\, 34)\; font-family: Arial\, Helvetica\, sans-serif\; font-size: small\;">&nbsp\;</div>\n\n<div style="color: rgb(34\, 34\, 34)\; font-family: Arial\, Helvetica\, sans-serif\; font-size: small\;">Join the webinar to learn some quick low to no-cost tactics to&nbsp\;promote&nbsp\;your business and increase sales this holiday season. Marketing prompts\, product promotions\, and strategies that will help boost holiday&nbsp\;sales and pay off year round will be discussed as Brooke Rouse\, business owner and St. Lawrence County Chamber Director of Tourism shares some lessons to get you going with immediate ideas.&nbsp\;</div>\n\n<div style="color: rgb(34\, 34\, 34)\; font-family: Arial\, Helvetica\, sans-serif\; font-size: small\;">&nbsp\;</div>\n\n<div style="color: rgb(34\, 34\, 34)\; font-family: Arial\, Helvetica\, sans-serif\; font-size: small\;">This webinar is ideal for those selling products and services (including restaurants)\, but can translate to many other businesses!&nbsp\;</div>\n
LOCATION:Online
UID:e.2288.10819
SEQUENCE:3
DTSTAMP:20260421T112340Z
URL:http://business.visitstlc.com/events/details/boost-your-holiday-sales-webinar-10819
END:VEVENT

END:VCALENDAR
