BEGIN:VCALENDAR
VERSION:2.0
PRODID:-//ChamberMaster//Event Calendar 2.0//EN
METHOD:PUBLISH
X-PUBLISHED-TTL:P3D
REFRESH-INTERVAL:P3D
CALSCALE:GREGORIAN
BEGIN:VEVENT
DTSTART:20220618T130000Z
DTEND:20220618T170000Z
X-MICROSOFT-CDO-ALLDAYEVENT:FALSE
SUMMARY:Biking for Books\, 8th Edition
DESCRIPTION:The Morley Library Association is hosting the 8th edition Biking for Books 50K (31mi.) bicycle ride on Saturday\, June 18th. Day-of registration opens at 9 am. The ride starts at 10 am. The terrain will be mostly flat with rolling hills through rural countryside. Helmets required. For all ages and abilities. Biking for Books is not a race\, but friendly competition is welcome. We will time the ride for bragging rights only. Door prizes will be awarded. $25 registration fee. Checks payable to Morley Library Association Mail registration to: John Beaudette 2242 County Rt. 14 Canton\, NY 13617 Online registration can be made at: theclipjointpetgrooming.com Click on the Biking for Books tab on the top right. Registration must be received by 5/21/22 to be guaranteed a t-shirt. Any questions contact ride organizer John Beaudette at (315) 386-5235 or e-mail at Beagle_Scout_MrB@hotmail.com.
X-ALT-DESC;FMTTYPE=text/html:The Morley Library Association is hosting the 8th edition Biking for Books 50K (31mi.) bicycle ride on Saturday\, June 18th. Day-of registration opens at 9 am. The ride starts at 10 am. The terrain will be mostly flat with rolling hills through rural countryside. Helmets required. For all ages and abilities. Biking for Books is not a race\, but friendly competition is welcome. We will time the ride for bragging rights only. Door prizes will be awarded. $25 registration fee. Checks payable to Morley Library Association Mail registration to: John Beaudette 2242 County Rt. 14 Canton\, NY 13617 Online registration can be made at: theclipjointpetgrooming.com Click on the Biking for Books tab on the top right. Registration must be received by 5/21/22 to be guaranteed a t-shirt. Any questions contact ride organizer John Beaudette at (315) 386-5235 or e-mail at Beagle_Scout_MrB@hotmail.com.
LOCATION:Morley Wesleyan Church
UID:e.2288.11026
SEQUENCE:3
DTSTAMP:20260420T205250Z
URL:http://business.visitstlc.com/events/details/biking-for-books-8th-edition-11026
END:VEVENT

END:VCALENDAR
