BEGIN:VCALENDAR
VERSION:2.0
PRODID:-//ChamberMaster//Event Calendar 2.0//EN
METHOD:PUBLISH
X-PUBLISHED-TTL:P3D
REFRESH-INTERVAL:P3D
CALSCALE:GREGORIAN
BEGIN:VEVENT
DTSTART:20240210T230000Z
DTEND:20240211T020000Z
X-MICROSOFT-CDO-ALLDAYEVENT:FALSE
SUMMARY:Back to the 80s Trivia Night
DESCRIPTION:BACK TO THE 80s TRIVIA NIGHT\n\nBring your friends and flash back to the 80s with a Trivia Night\, emceed by Mike Viskovich!\n\n80's Trivia Night will be hosted at the Massena VFW on Saturday\, February 10 from 6:00pm - 9:00pm with proceeds to benefit the Police Activities League of Massena\, formerly known as the Boys and Girls Club. A cash bar will be also be available and prizes for top teams AND best costume's! Admission is $120 for teams of four. Admission includes four meal tickets for a Taco/Nacho Bar.\n\n\n\nTo register a team\, please have your team name ready and call 315-705-6075 or email noelle@massenapal.com. Cash or checks accepted.
X-ALT-DESC;FMTTYPE=text/html:<span style="font-size:20px\;"><strong>BACK TO THE 80s TRIVIA NIGHT</strong></span><br />\nBring your friends and flash back to the 80s with a Trivia Night\, emceed by Mike Viskovich!<br />\n80&#39\;s Trivia Night will be hosted at the Massena VFW on Saturday\, February 10 from 6:00pm - 9:00pm with proceeds to benefit the Police Activities League of Massena\,&nbsp\;formerly known as the Boys and Girls Club.&nbsp\;A cash bar will be also be available and prizes for top teams AND best costume&rsquo\;s! Admission is $120 for teams of four. Admission includes four meal tickets for a Taco/Nacho Bar.<br />\n<br />\nTo register a team\, please have your team name ready and call 315-705-6075 or email noelle@massenapal.com.&nbsp\;Cash or checks accepted.
LOCATION:VFW Massena 101 W Hatfield Street Massena\, NY
UID:e.2288.16695
SEQUENCE:3
DTSTAMP:20260422T102424Z
URL:http://business.visitstlc.com/events/details/back-to-the-80s-trivia-night-16695
END:VEVENT

END:VCALENDAR
