BEGIN:VCALENDAR
VERSION:2.0
PRODID:-//ChamberMaster//Event Calendar 2.0//EN
METHOD:PUBLISH
X-PUBLISHED-TTL:P3D
REFRESH-INTERVAL:P3D
CALSCALE:GREGORIAN
BEGIN:VEVENT
DTSTART:20200610T140000Z
DTEND:20200610T150000Z
X-MICROSOFT-CDO-ALLDAYEVENT:FALSE
SUMMARY:Art Highlights & Tea (VIRTUAL) with Remington Museum Director
DESCRIPTION:Art Highlights & Tea (VIRTUAL) with Remington Museum Director at 10:00 am more information and register here.
X-ALT-DESC;FMTTYPE=text/html:<span style="background-color: rgb(255\, 255\, 255)\; font-size: 14px\; font-family: Arial\, Verdana\, Helvetica\, sans-serif\; font-weight: bold\;">Art Highlights &amp\; Tea&nbsp\;</span><span style="background-color: rgb(255\, 255\, 255)\; font-size: 14px\; font-family: Arial\, Verdana\, Helvetica\, sans-serif\; color: rgb(29\, 33\, 41)\; font-weight: bold\;">(VIRTUAL)</span><span style="background-color: rgb(255\, 255\, 255)\; font-size: 14px\; font-family: Arial\, Verdana\, Helvetica\, sans-serif\; font-weight: bold\;">&nbsp\;</span><span style="background-color: rgb(255\, 255\, 255)\; font-size: 14px\; font-family: Arial\, Verdana\, Helvetica\, sans-serif\;">with Remington Museum Director at 10:00 am&nbsp\;</span><a data-saferedirecturl="https://www.google.com/url?hl=en&amp\;q=http://r20.rs6.net/tn.jsp?f%3D001K_J4yOp2uh7gSFysbh-Q0OoUwqCYU1LGiTiAV2CVvD6FJoAtqxF9VTybprrbpZHdRjT-bYGugC4UhVGAY7vZvRU5v-9DGv-M5vfbjRNeDlXFnroTl1XAfBtVYi1dAI5bTUeLKr-_9-WGf0GbeqBVb9eF8RgoLWJ13kWMirhr8lAjJU4b04FGdVA14kZ2lcqVcv0shMWjlcst5NuzYBiOqw%3D%3D%26c%3D2xJZsEEpTrFbKCuZWRbPZUGjWfMLvnOw52HLproxW_9INg5huEBNUw%3D%3D%26ch%3DZvawvX12Kvxov-Q2fv20sQnFH8ndGK1cl7_hKYMKAxTmDlvPG4vqOg%3D%3D&amp\;source=gmail&amp\;ust=1591219655847000&amp\;usg=AFQjCNF4DAPvHxkkcmPxylO0dNWZN5SchQ" href="http://r20.rs6.net/tn.jsp?f=001K_J4yOp2uh7gSFysbh-Q0OoUwqCYU1LGiTiAV2CVvD6FJoAtqxF9VTybprrbpZHdRjT-bYGugC4UhVGAY7vZvRU5v-9DGv-M5vfbjRNeDlXFnroTl1XAfBtVYi1dAI5bTUeLKr-_9-WGf0GbeqBVb9eF8RgoLWJ13kWMirhr8lAjJU4b04FGdVA14kZ2lcqVcv0shMWjlcst5NuzYBiOqw==&amp\;c=2xJZsEEpTrFbKCuZWRbPZUGjWfMLvnOw52HLproxW_9INg5huEBNUw==&amp\;ch=ZvawvX12Kvxov-Q2fv20sQnFH8ndGK1cl7_hKYMKAxTmDlvPG4vqOg==" rel="noopener noreferrer" style="font-family: Arial\, Verdana\, Helvetica\, sans-serif\; color: rgb(41\, 75\, 147)\; background-color: rgb(255\, 255\, 255)\; font-size: 14px\; font-weight: bold\;" target="_blank">more information and register here</a><span style="background-color: rgb(255\, 255\, 255)\; font-size: 14px\; font-family: Arial\, Verdana\, Helvetica\, sans-serif\;">.</span>
LOCATION:
UID:e.2288.9769
SEQUENCE:3
DTSTAMP:20260424T080052Z
URL:http://business.visitstlc.com/events/details/art-highlights-tea-virtual-with-remington-museum-director-9769
END:VEVENT

END:VCALENDAR
