BEGIN:VCALENDAR
VERSION:2.0
PRODID:-//ChamberMaster//Event Calendar 2.0//EN
METHOD:PUBLISH
X-PUBLISHED-TTL:P3D
REFRESH-INTERVAL:P3D
CALSCALE:GREGORIAN
BEGIN:VEVENT
DTSTART:20251121T200000Z
DTEND:20251122T200000Z
X-MICROSOFT-CDO-ALLDAYEVENT:FALSE
SUMMARY:All4One Adoption Awareness Run
DESCRIPTION:All4One Adoption Awareness Run\n\nThe All4One Run began in 2018 when Jessica Hurlbut ran 110 miles to represent the 110\,000 children in the U.S. waiting to be adopted. Today\, it's a 125-mile relay symbolizing the 125\,000+ children still waiting for families.\n\n\n\nThe event will start and finish at Dean-Eaton Hall (Parking Lot H) and will continue for 36 legs\, each lasting 40 minutes\, ending 24 hours later at 3:00 p.m. on Saturday\, November 22\, 2025.\n\n\n\nNew for 2025: The entire course will be hosted on the St. Lawrence University campus\, with 3.5-mile legs\, easy access to facilities\, and a safe\, centralized experience. Walkers are welcome\, too!\n\n\n\nHosted by Children's Home of Jefferson County in partnership with Jessica and Greg Hurlbut and St. Lawrence University.
X-ALT-DESC;FMTTYPE=text/html:<strong>All4One Adoption Awareness Run</strong><br />\nThe All4One Run began in 2018 when Jessica Hurlbut ran 110 miles to represent the 110\,000 children in the U.S. waiting to be adopted. Today\, it&rsquo\;s a 125-mile relay symbolizing the 125\,000+ children still waiting for families.<br />\n<br />\nThe event will start and finish at&nbsp\;Dean-Eaton Hall (Parking Lot H)&nbsp\;and will continue for&nbsp\;36 legs\, each lasting 40 minutes\, ending&nbsp\;24 hours later at 3:00 p.m. on Saturday\, November 22\, 2025.<br />\n<br />\nNew for 2025:&nbsp\;The entire course will be hosted on the St. Lawrence University campus\, with 3.5-mile legs\, easy access to facilities\, and a safe\, centralized experience. Walkers are welcome\, too!<br />\n<br />\n<em>Hosted by Children&#39\;s Home of Jefferson County in partnership with Jessica and Greg Hurlbut and St. Lawrence University.</em>
LOCATION:St. Lawrence University 23 Romoda Dr. | Canton\, NY
UID:e.2288.20643
SEQUENCE:3
DTSTAMP:20260420T195808Z
URL:http://business.visitstlc.com/events/details/all4one-adoption-awareness-run-20643
END:VEVENT

END:VCALENDAR
