BEGIN:VCALENDAR
VERSION:2.0
PRODID:-//ChamberMaster//Event Calendar 2.0//EN
METHOD:PUBLISH
X-PUBLISHED-TTL:P3D
REFRESH-INTERVAL:P3D
CALSCALE:GREGORIAN
BEGIN:VEVENT
DTSTART:20201008T230000Z
DTEND:20201009T010000Z
X-MICROSOFT-CDO-ALLDAYEVENT:FALSE
SUMMARY:2020 World Tour Paddling Film Festival
DESCRIPTION:We will be featuring the best paddling short films from around the world\, from thrilling whitewater descents to expedition canoeing\, kayaking and SUP!\n\n\n\nTickets: $15 Adult\, $5 Student\n\n\n\nAvailable online (accepting major credit cards) or via cash at the door!\n\n\n\nDoor opens at 6:30 pm.\n\n\n\nCraft beer will be available for purchase and we will have free coffee\, tea and finger foods available. Hold on to your ticket stub for door prizes and help support SLU's Laurentian Paddlesports Club by purchasing raffle tickets for paddling accessories and gift cards.\n\n\n\nHosted by: St. Lawrence Valley Paddlers as a benefit for St. Lawrence University's Laurentian Paddlesport Club.\n\n\n\nCome join us for an evening of fun!
X-ALT-DESC;FMTTYPE=text/html:<span style="color: rgb(29\, 33\, 41)\; font-family: Helvetica\, Arial\, sans-serif\; font-size: 14px\; white-space: pre-wrap\;">We will be featuring the best paddling short films from around the world\, from thrilling whitewater descents to expedition canoeing\, kayaking and SUP!</span><br style="color: rgb(29\, 33\, 41)\; font-family: Helvetica\, Arial\, sans-serif\; font-size: 14px\; white-space: pre-wrap\;" />\n<br style="color: rgb(29\, 33\, 41)\; font-family: Helvetica\, Arial\, sans-serif\; font-size: 14px\; white-space: pre-wrap\;" />\n<span style="color: rgb(29\, 33\, 41)\; font-family: Helvetica\, Arial\, sans-serif\; font-size: 14px\; white-space: pre-wrap\;">Tickets: $15 Adult\, $5 Student</span><br style="color: rgb(29\, 33\, 41)\; font-family: Helvetica\, Arial\, sans-serif\; font-size: 14px\; white-space: pre-wrap\;" />\n<br style="color: rgb(29\, 33\, 41)\; font-family: Helvetica\, Arial\, sans-serif\; font-size: 14px\; white-space: pre-wrap\;" />\n<span style="color: rgb(29\, 33\, 41)\; font-family: Helvetica\, Arial\, sans-serif\; font-size: 14px\; white-space: pre-wrap\;">Available online (accepting major credit cards) or via cash at the door!</span><br style="color: rgb(29\, 33\, 41)\; font-family: Helvetica\, Arial\, sans-serif\; font-size: 14px\; white-space: pre-wrap\;" />\n<br style="color: rgb(29\, 33\, 41)\; font-family: Helvetica\, Arial\, sans-serif\; font-size: 14px\; white-space: pre-wrap\;" />\n<span style="color: rgb(29\, 33\, 41)\; font-family: Helvetica\, Arial\, sans-serif\; font-size: 14px\; white-space: pre-wrap\;">Door opens at 6:30 pm.</span><br style="color: rgb(29\, 33\, 41)\; font-family: Helvetica\, Arial\, sans-serif\; font-size: 14px\; white-space: pre-wrap\;" />\n<br style="color: rgb(29\, 33\, 41)\; font-family: Helvetica\, Arial\, sans-serif\; font-size: 14px\; white-space: pre-wrap\;" />\n<span style="color: rgb(29\, 33\, 41)\; font-family: Helvetica\, Arial\, sans-serif\; font-size: 14px\; white-space: pre-wrap\;">Craft beer will be available for purchase and we will have free coffee\, tea and finger foods available. Hold on to your ticket stub for door prizes and help support SLU&#39\;s Laurentian Paddlesports Club by purchasing raffle tickets for paddling accessories and gift cards.</span><br style="color: rgb(29\, 33\, 41)\; font-family: Helvetica\, Arial\, sans-serif\; font-size: 14px\; white-space: pre-wrap\;" />\n<br style="color: rgb(29\, 33\, 41)\; font-family: Helvetica\, Arial\, sans-serif\; font-size: 14px\; white-space: pre-wrap\;" />\n<span style="color: rgb(29\, 33\, 41)\; font-family: Helvetica\, Arial\, sans-serif\; font-size: 14px\; white-space: pre-wrap\;">Hosted by: St. Lawrence Valley Paddlers as a benefit for St. Lawrence University&#39\;s Laurentian Paddlesport Club.</span><br style="color: rgb(29\, 33\, 41)\; font-family: Helvetica\, Arial\, sans-serif\; font-size: 14px\; white-space: pre-wrap\;" />\n<br style="color: rgb(29\, 33\, 41)\; font-family: Helvetica\, Arial\, sans-serif\; font-size: 14px\; white-space: pre-wrap\;" />\n<span style="color: rgb(29\, 33\, 41)\; font-family: Helvetica\, Arial\, sans-serif\; font-size: 14px\; white-space: pre-wrap\;">Come join us for an evening of fun!</span>
LOCATION:Fairfield Inn & Suites\, Canton
UID:e.2288.9405
SEQUENCE:3
DTSTAMP:20260423T133005Z
URL:http://business.visitstlc.com/events/details/2020-world-tour-paddling-film-festival-9405
END:VEVENT

END:VCALENDAR
