BEGIN:VCALENDAR
VERSION:2.0
PRODID:-//ChamberMaster//Event Calendar 2.0//EN
METHOD:PUBLISH
X-PUBLISHED-TTL:P3D
REFRESH-INTERVAL:P3D
CALSCALE:GREGORIAN
BEGIN:VEVENT
DTSTART:20250316T170000Z
DTEND:20250316T183000Z
X-MICROSOFT-CDO-ALLDAYEVENT:FALSE
SUMMARY:10 Courageous Women
DESCRIPTION:10 Courageous Women\n\n\n\nCelebrate Women's History Month with an inspiring Readers' Theater-style performance presented by St. Lawrence County Historian Nancy LaFaver and friends. "10 Courageous Women of St. Lawrence County" will highlight the remarkable achievements of local women who defied social norms\, influenced policy\, and changed lives.\n\n\n\nDiscover the stories of influential figures such as:\n\n  Marion Sanger Frank   Women's suffragist\n\n  Sally James Farnham   Renowned artist\n\n  Dr. Mary Bryan   Trailblazing physician\n\n\n\nEnjoy light refreshments while connecting with fellow history enthusiasts. This engaging and educational event is perfect for all ages.\n\n\n\n  Don't miss this special opportunity to honor the incredible women who shaped St. Lawrence County's history!
X-ALT-DESC;FMTTYPE=text/html:<strong><span style="font-size:20px\;">10 Courageous Women</span></strong><br />\n<br />\nCelebrate<strong> Women&#39\;s History Month </strong>with an inspiring <strong>Readers&#39\; Theater-style performance</strong> presented by <strong>St. Lawrence County Historian Nancy LaFaver </strong>and friends. &quot\;10 Courageous Women of St. Lawrence County&quot\; will highlight the remarkable achievements of local women who defied social norms\, influenced policy\, and changed lives.<br />\n<br />\n<span style="font-size:16px\;">Discover the stories of influential figures such as:</span><br />\n&#10024\;<strong> Marion Sanger Frank</strong> &ndash\; Women&rsquo\;s suffragist<br />\n&#127912\;<strong> Sally James Farnham</strong> &ndash\; Renowned artist<br />\n&#129658\; <strong>Dr. Mary Bryan</strong> &ndash\; Trailblazing physician<br />\n<br />\nEnjoy <strong>light refreshments</strong> while connecting with fellow history enthusiasts. This engaging and educational event is perfect for all ages.<br />\n<br />\n&#128226\; Don&#39\;t miss this special opportunity to honor the incredible women who shaped St. Lawrence County&#39\;s history!
LOCATION:Ogdensburg History Museum 207 Ford St. Ogdensburg\, NY
UID:e.2288.19714
SEQUENCE:3
DTSTAMP:20260421T215650Z
URL:http://business.visitstlc.com/events/details/10-courageous-women-19714
END:VEVENT

END:VCALENDAR
